BEGIN:VCALENDAR
VERSION:2.0
PRODID:-//demosphere.net//NONSGML kigkonsult.se iCalcreator 2.22.1//
METHOD:REQUEST
X-WR-TIMEZONE:Europe/Paris
BEGIN:VEVENT
UID:https://safe.angers.demosphere.eu/rv/6660
DTSTAMP:20260216T190000Z
DESCRIPTION:plus d'infos sur : https://safe.angers.demosphere.eu/rv/6660
DTSTART:20260216T190000Z
DTEND:20260216T200000Z
GEO:+47.453104;-0.52589
LOCATION:Angers\, \nLe Trois-Mâts \nMaison de quartier des Justices \nPlace
  des justices \n49000 Angers
SUMMARY:le mythe irresponsable de la croissance
URL:https://safe.angers.demosphere.eu/rv/6660
END:VEVENT
END:VCALENDAR
