BEGIN:VCALENDAR
VERSION:2.0
PRODID:-//demosphere.net//NONSGML kigkonsult.se iCalcreator 2.22.1//
METHOD:REQUEST
X-WR-TIMEZONE:Europe/Paris
BEGIN:VEVENT
UID:https://safe.angers.demosphere.eu/rv/6542
DTSTAMP:20240117T190000Z
DESCRIPTION:plus d'infos sur : https://safe.angers.demosphere.eu/rv/6542
DTSTART:20240117T190000Z
DTEND:20240117T200000Z
GEO:+47.487328;-0.524227
LOCATION:Angers\, \nMaison pour tous - MPT Monplaisir \n3 rue de l'Ecriture
  \n49100 Angers
SUMMARY:Conférence 'Que fait (encore) l'armée française en Afrique ?'
URL:https://safe.angers.demosphere.eu/rv/6542
END:VEVENT
END:VCALENDAR
