BEGIN:VCALENDAR
VERSION:2.0
PRODID:-//demosphere.net//NONSGML kigkonsult.se iCalcreator 2.22.1//
METHOD:REQUEST
X-WR-TIMEZONE:Europe/Paris
BEGIN:VEVENT
UID:https://safe.angers.demosphere.eu/rv/6529
DTSTAMP:20231123T160000Z
DESCRIPTION:plus d'infos sur : https://safe.angers.demosphere.eu/rv/6529
DTSTART:20231123T160000Z
DTEND:20231123T170000Z
GEO:+47.453104;-0.52589
LOCATION:Angers\, \nLe Trois-Mâts \nMaison de quartier des Justices \nPlace
  des justices \n49000 Angers
SUMMARY:Inauguration de la Sexposition Angevine
URL:https://safe.angers.demosphere.eu/rv/6529
END:VEVENT
END:VCALENDAR
