BEGIN:VCALENDAR
VERSION:2.0
PRODID:-//demosphere.net//NONSGML kigkonsult.se iCalcreator 2.22.1//
METHOD:REQUEST
X-WR-TIMEZONE:Europe/Paris
BEGIN:VEVENT
UID:https://safe.angers.demosphere.eu/rv/6377
DTSTAMP:20221110T190000Z
DESCRIPTION:plus d'infos sur : https://safe.angers.demosphere.eu/rv/6377
DTSTART:20221110T190000Z
DTEND:20221110T200000Z
GEO:+47.487328;-0.524227
LOCATION:Angers\, \nMaison pour tous - MPT Monplaisir \n3 rue de l'Ecriture
  \n49100 Angers
SUMMARY:AFPS/Al Kamandjati : TAHA spectacle de théâtre musical
URL:https://safe.angers.demosphere.eu/rv/6377
END:VEVENT
END:VCALENDAR
