BEGIN:VCALENDAR
VERSION:2.0
PRODID:-//demosphere.net//NONSGML kigkonsult.se iCalcreator 2.22.1//
METHOD:REQUEST
X-WR-TIMEZONE:Europe/Paris
BEGIN:VEVENT
UID:https://safe.angers.demosphere.eu/rv/6229
DTSTAMP:20220428T183000Z
DESCRIPTION:plus d'infos sur : https://safe.angers.demosphere.eu/rv/6229
DTSTART:20220428T183000Z
DTEND:20220428T193000Z
GEO:+47.487328;-0.524227
LOCATION:Angers\, \nMaison pour tous - MPT Monplaisir \n3 rue de l'Ecriture
  \n49100 Angers
SUMMARY:Conférence gesticulée : j'aurais dû m'appeler Aïcha
URL:https://safe.angers.demosphere.eu/rv/6229
END:VEVENT
END:VCALENDAR
