BEGIN:VCALENDAR
VERSION:2.0
PRODID:-//demosphere.net//NONSGML kigkonsult.se iCalcreator 2.22.1//
METHOD:REQUEST
X-WR-TIMEZONE:Europe/Paris
BEGIN:VEVENT
UID:https://safe.angers.demosphere.eu/rv/6227
DTSTAMP:20211209T193000Z
DESCRIPTION:plus d'infos sur : https://safe.angers.demosphere.eu/rv/6227
DTSTART:20211209T193000Z
DTEND:20211209T203000Z
GEO:+47.487328;-0.524227
LOCATION:Angers\, \nMaison pour tous - MPT Monplaisir \n3 rue de l'Ecriture
  \n49100 Angers
SUMMARY:Conférence gesticulée : Les astuces de sioux d'une aide soignante à
  l'hôpital du commerce
URL:https://safe.angers.demosphere.eu/rv/6227
END:VEVENT
END:VCALENDAR
