BEGIN:VCALENDAR
VERSION:2.0
PRODID:-//demosphere.net//NONSGML kigkonsult.se iCalcreator 2.22.1//
METHOD:REQUEST
X-WR-TIMEZONE:Europe/Paris
BEGIN:VEVENT
UID:https://safe.angers.demosphere.eu/rv/5880
DTSTAMP:20191121T190000Z
DESCRIPTION:plus d'infos sur : https://safe.angers.demosphere.eu/rv/5880
DTSTART:20191121T190000Z
DTEND:20191121T200000Z
GEO:+47.453104;-0.52589
LOCATION:Angers\, \nLe Trois-Mâts \nMaison de quartier des Justices \nPlace
  des justices \n49000 Angers
SUMMARY:Ciné-doc La ligne de couleur
URL:https://safe.angers.demosphere.eu/rv/5880
END:VEVENT
END:VCALENDAR
