BEGIN:VCALENDAR
VERSION:2.0
PRODID:-//demosphere.net//NONSGML kigkonsult.se iCalcreator 2.22.1//
METHOD:REQUEST
X-WR-TIMEZONE:Europe/Paris
BEGIN:VEVENT
UID:https://safe.angers.demosphere.eu/rv/5866
DTSTAMP:20200110T193000Z
DESCRIPTION:plus d'infos sur : https://safe.angers.demosphere.eu/rv/5866
DTSTART:20200110T193000Z
DTEND:20200110T203000Z
GEO:+47.487328;-0.524227
LOCATION:Angers\, \nMaison pour tous - MPT Monplaisir \n3 rue de l'Ecriture
  \n49100 Angers
SUMMARY:ANNULE ! Conférence gesticulée Pas de doute ! Je suis de gauche ! A
  moins que...
URL:https://safe.angers.demosphere.eu/rv/5866
END:VEVENT
END:VCALENDAR
