BEGIN:VCALENDAR
VERSION:2.0
PRODID:-//demosphere.net//NONSGML kigkonsult.se iCalcreator 2.22.1//
METHOD:REQUEST
X-WR-TIMEZONE:Europe/Paris
BEGIN:VEVENT
UID:https://safe.angers.demosphere.eu/rv/581
DTSTAMP:20101203T023300Z
DESCRIPTION:plus d'infos sur : https://safe.angers.demosphere.eu/rv/581
DTSTART;VALUE=DATE:20101203
GEO:+47.487328;-0.524227
LOCATION:Angers\, \nMaison pour tous - MPT Monplaisir \n3 rue de l'Ecriture
  \n49100 Angers
SUMMARY:Immigration : sortir de l’ignorance et de l’hypocrisie
URL:https://safe.angers.demosphere.eu/rv/581
END:VEVENT
END:VCALENDAR
