BEGIN:VCALENDAR
VERSION:2.0
PRODID:-//demosphere.net//NONSGML kigkonsult.se iCalcreator 2.22.1//
METHOD:REQUEST
X-WR-TIMEZONE:Europe/Paris
BEGIN:VEVENT
UID:https://safe.angers.demosphere.eu/rv/5635
DTSTAMP:20190425T180000Z
DESCRIPTION:plus d'infos sur : https://safe.angers.demosphere.eu/rv/5635
DTSTART:20190425T180000Z
DTEND:20190425T190000Z
GEO:+47.487328;-0.524227
LOCATION:Angers\, \nMaison pour tous - MPT Monplaisir \n3 rue de l'Ecriture
  \n49100 Angers
SUMMARY:Rencontre avec Bernd Langer\, auteur d'Antifa
URL:https://safe.angers.demosphere.eu/rv/5635
END:VEVENT
END:VCALENDAR
