BEGIN:VCALENDAR
VERSION:2.0
PRODID:-//demosphere.net//NONSGML kigkonsult.se iCalcreator 2.22.1//
METHOD:REQUEST
X-WR-TIMEZONE:Europe/Paris
BEGIN:VEVENT
UID:https://safe.angers.demosphere.eu/rv/5597
DTSTAMP:20190328T180000Z
DESCRIPTION:plus d'infos sur : https://safe.angers.demosphere.eu/rv/5597
DTSTART:20190328T180000Z
DTEND:20190328T190000Z
GEO:+47.453104;-0.52589
LOCATION:Angers\, \nLe Trois-Mâts \nMaison de quartier des Justices \nPlace
  des justices \n49000 Angers
SUMMARY:Ciné Le maître est l’enfant
URL:https://safe.angers.demosphere.eu/rv/5597
END:VEVENT
END:VCALENDAR
