BEGIN:VCALENDAR
VERSION:2.0
PRODID:-//demosphere.net//NONSGML kigkonsult.se iCalcreator 2.22.1//
METHOD:REQUEST
X-WR-TIMEZONE:Europe/Paris
BEGIN:VEVENT
UID:https://safe.angers.demosphere.eu/rv/5502
DTSTAMP:20181116T023300Z
DESCRIPTION:plus d'infos sur : https://safe.angers.demosphere.eu/rv/5502
DTSTART;VALUE=DATE:20181116
GEO:+47.453104;-0.52589
LOCATION:Angers\, \nLe Trois-Mâts \nMaison de quartier des Justices \nPlace
  des justices \n49000 Angers
SUMMARY:Projection Swagger
URL:https://safe.angers.demosphere.eu/rv/5502
END:VEVENT
END:VCALENDAR
