BEGIN:VCALENDAR
VERSION:2.0
PRODID:-//demosphere.net//NONSGML kigkonsult.se iCalcreator 2.22.1//
METHOD:REQUEST
X-WR-TIMEZONE:Europe/Paris
BEGIN:VEVENT
UID:https://safe.angers.demosphere.eu/rv/545
DTSTAMP:20101106T130000Z
DESCRIPTION:plus d'infos sur : https://safe.angers.demosphere.eu/rv/545
DTSTART:20101106T130000Z
DTEND:20101106T140000Z
GEO:+47.453104;-0.52589
LOCATION:Angers\, \nLe Trois-Mâts \nMaison de quartier des Justices \nPlace
  des justices \n49000 Angers
SUMMARY:Forum des Formations à l'éco-construction
URL:https://safe.angers.demosphere.eu/rv/545
END:VEVENT
END:VCALENDAR
