BEGIN:VCALENDAR
VERSION:2.0
PRODID:-//demosphere.net//NONSGML kigkonsult.se iCalcreator 2.22.1//
METHOD:REQUEST
X-WR-TIMEZONE:Europe/Paris
BEGIN:VEVENT
UID:https://safe.angers.demosphere.eu/rv/5406
DTSTAMP:20181115T191500Z
DESCRIPTION:plus d'infos sur : https://safe.angers.demosphere.eu/rv/5406
DTSTART:20181115T191500Z
DTEND:20181115T201500Z
GEO:+47.487328;-0.524227
LOCATION:Angers\, \nMaison pour tous - MPT Monplaisir \n3 rue de l'Ecriture
  \n49100 Angers
SUMMARY:Conférence 'Israël-Palestine : une si longue histoire'
URL:https://safe.angers.demosphere.eu/rv/5406
END:VEVENT
END:VCALENDAR
