BEGIN:VCALENDAR
VERSION:2.0
PRODID:-//demosphere.net//NONSGML kigkonsult.se iCalcreator 2.22.1//
METHOD:REQUEST
X-WR-TIMEZONE:Europe/Paris
BEGIN:VEVENT
UID:https://safe.angers.demosphere.eu/rv/5403
DTSTAMP:20181018T180000Z
DESCRIPTION:plus d'infos sur : https://safe.angers.demosphere.eu/rv/5403
DTSTART:20181018T180000Z
DTEND:20181018T190000Z
GEO:+47.453104;-0.52589
LOCATION:Angers\, \nLe Trois-Mâts \nMaison de quartier des Justices \nPlace
  des justices \n49000 Angers
SUMMARY:Projection-rencontre NOUVEAU MONDE 
URL:https://safe.angers.demosphere.eu/rv/5403
END:VEVENT
END:VCALENDAR
