BEGIN:VCALENDAR
VERSION:2.0
PRODID:-//demosphere.net//NONSGML kigkonsult.se iCalcreator 2.22.1//
METHOD:REQUEST
X-WR-TIMEZONE:Europe/Paris
BEGIN:VEVENT
UID:https://safe.angers.demosphere.eu/rv/5265
DTSTAMP:20180523T173000Z
DESCRIPTION:plus d'infos sur : https://safe.angers.demosphere.eu/rv/5265
DTSTART:20180523T173000Z
DTEND:20180523T183000Z
GEO:+47.487328;-0.524227
LOCATION:Angers\, \nMaison pour tous - MPT Monplaisir \n3 rue de l'Ecriture
  \n49100 Angers
SUMMARY:Projection Cinémas D'afrique Citoyens Bois D'ébène
URL:https://safe.angers.demosphere.eu/rv/5265
END:VEVENT
END:VCALENDAR
