BEGIN:VCALENDAR
VERSION:2.0
PRODID:-//demosphere.net//NONSGML kigkonsult.se iCalcreator 2.22.1//
METHOD:REQUEST
X-WR-TIMEZONE:Europe/Paris
BEGIN:VEVENT
UID:https://safe.angers.demosphere.eu/rv/5177
DTSTAMP:20180314T140000Z
DESCRIPTION:plus d'infos sur : https://safe.angers.demosphere.eu/rv/5177
DTSTART:20180314T140000Z
DTEND:20180314T150000Z
GEO:+47.487328;-0.524227
LOCATION:Angers\, \nMaison pour tous - MPT Monplaisir \n3 rue de l'Ecriture
  \n49100 Angers
SUMMARY:Ciné gouter : 2 courts métrages pour les familles
URL:https://safe.angers.demosphere.eu/rv/5177
END:VEVENT
END:VCALENDAR
