BEGIN:VCALENDAR
VERSION:2.0
PRODID:-//demosphere.net//NONSGML kigkonsult.se iCalcreator 2.22.1//
METHOD:REQUEST
X-WR-TIMEZONE:Europe/Paris
BEGIN:VEVENT
UID:https://safe.angers.demosphere.eu/rv/4918
DTSTAMP:20171116T190000Z
DESCRIPTION:plus d'infos sur : https://safe.angers.demosphere.eu/rv/4918
DTSTART:20171116T190000Z
DTEND:20171116T200000Z
GEO:+47.453104;-0.52589
LOCATION:Angers\, \nLe Trois-Mâts \nMaison de quartier des Justices \nPlace
  des justices \n49000 Angers
SUMMARY:Ciné doc Ceux qui disent oui
URL:https://safe.angers.demosphere.eu/rv/4918
END:VEVENT
END:VCALENDAR
