BEGIN:VCALENDAR
VERSION:2.0
PRODID:-//demosphere.net//NONSGML kigkonsult.se iCalcreator 2.22.1//
METHOD:REQUEST
X-WR-TIMEZONE:Europe/Paris
BEGIN:VEVENT
UID:https://safe.angers.demosphere.eu/rv/4773
DTSTAMP:20170622T180000Z
DESCRIPTION:plus d'infos sur : https://safe.angers.demosphere.eu/rv/4773
DTSTART:20170622T180000Z
DTEND:20170622T190000Z
GEO:+47.453104;-0.52589
LOCATION:Angers\, \nLe Trois-Mâts \nMaison de quartier des Justices \nPlace
  des justices \n49000 Angers
SUMMARY:Réunion publique association pour une école moderne et émancipatric
 e
URL:https://safe.angers.demosphere.eu/rv/4773
END:VEVENT
END:VCALENDAR
