BEGIN:VCALENDAR
VERSION:2.0
PRODID:-//demosphere.net//NONSGML kigkonsult.se iCalcreator 2.22.1//
METHOD:REQUEST
X-WR-TIMEZONE:Europe/Paris
BEGIN:VEVENT
UID:https://safe.angers.demosphere.eu/rv/4721
DTSTAMP:20170430T123000Z
DESCRIPTION:plus d'infos sur : https://safe.angers.demosphere.eu/rv/4721
DTSTART:20170430T123000Z
DTEND:20170430T133000Z
GEO:+47.453104;-0.52589
LOCATION:Angers\, \nLe Trois-Mâts \nMaison de quartier des Justices \nPlace
  des justices \n49000 Angers
SUMMARY:Film 'On n'est pas des parents formidables mais on peut essayer !'
URL:https://safe.angers.demosphere.eu/rv/4721
END:VEVENT
END:VCALENDAR
