BEGIN:VCALENDAR
VERSION:2.0
PRODID:-//demosphere.net//NONSGML kigkonsult.se iCalcreator 2.22.1//
METHOD:REQUEST
X-WR-TIMEZONE:Europe/Paris
BEGIN:VEVENT
UID:https://safe.angers.demosphere.eu/rv/4462
DTSTAMP:20170224T193000Z
DESCRIPTION:plus d'infos sur : https://safe.angers.demosphere.eu/rv/4462
DTSTART:20170224T193000Z
DTEND:20170224T203000Z
GEO:+47.487328;-0.524227
LOCATION:Angers\, \nMaison pour tous - MPT Monplaisir \n3 rue de l'Ecriture
  \n49100 Angers
SUMMARY:Conférence gesticulée : Si c'est gratuit\, c'est nous le produit
URL:https://safe.angers.demosphere.eu/rv/4462
END:VEVENT
END:VCALENDAR
