BEGIN:VCALENDAR
VERSION:2.0
PRODID:-//demosphere.net//NONSGML kigkonsult.se iCalcreator 2.22.1//
METHOD:REQUEST
X-WR-TIMEZONE:Europe/Paris
BEGIN:VEVENT
UID:https://safe.angers.demosphere.eu/rv/4423
DTSTAMP:20161203T193000Z
DESCRIPTION:plus d'infos sur : https://safe.angers.demosphere.eu/rv/4423
DTSTART:20161203T193000Z
DTEND:20161203T203000Z
GEO:+47.487328;-0.524227
LOCATION:Angers\, \nMaison pour tous - MPT Monplaisir \n3 rue de l'Ecriture
  \n49100 Angers
SUMMARY:Nouveauté\,  le théâtre pour introduire un sujet toujours d'actuali
 té.
URL:https://safe.angers.demosphere.eu/rv/4423
END:VEVENT
END:VCALENDAR
