BEGIN:VCALENDAR
VERSION:2.0
PRODID:-//demosphere.net//NONSGML kigkonsult.se iCalcreator 2.22.1//
METHOD:REQUEST
X-WR-TIMEZONE:Europe/Paris
BEGIN:VEVENT
UID:https://safe.angers.demosphere.eu/rv/4237
DTSTAMP:20161115T023300Z
DESCRIPTION:plus d'infos sur : https://safe.angers.demosphere.eu/rv/4237
DTSTART;VALUE=DATE:20161115
GEO:+47.453104;-0.52589
LOCATION:Angers\, \nLe Trois-Mâts \nMaison de quartier des Justices \nPlace
  des justices \n49000 Angers
SUMMARY:Ciné-débat Les roses noires
URL:https://safe.angers.demosphere.eu/rv/4237
END:VEVENT
END:VCALENDAR
