BEGIN:VCALENDAR
VERSION:2.0
PRODID:-//demosphere.net//NONSGML kigkonsult.se iCalcreator 2.22.1//
METHOD:REQUEST
X-WR-TIMEZONE:Europe/Paris
BEGIN:VEVENT
UID:https://safe.angers.demosphere.eu/rv/4236
DTSTAMP:20161020T180000Z
DESCRIPTION:plus d'infos sur : https://safe.angers.demosphere.eu/rv/4236
DTSTART:20161020T180000Z
DTEND:20161020T190000Z
GEO:+47.453104;-0.52589
LOCATION:Angers\, \nLe Trois-Mâts \nMaison de quartier des Justices \nPlace
  des justices \n49000 Angers
SUMMARY:Ciné-débat La guerre des graines
URL:https://safe.angers.demosphere.eu/rv/4236
END:VEVENT
END:VCALENDAR
