BEGIN:VCALENDAR
VERSION:2.0
PRODID:-//demosphere.net//NONSGML kigkonsult.se iCalcreator 2.22.1//
METHOD:REQUEST
X-WR-TIMEZONE:Europe/Paris
BEGIN:VEVENT
UID:https://safe.angers.demosphere.eu/rv/382
DTSTAMP:20110326T140000Z
DESCRIPTION:plus d'infos sur : https://safe.angers.demosphere.eu/rv/382
DTSTART:20110326T140000Z
DTEND:20110326T150000Z
GEO:+47.453104;-0.52589
LOCATION:Angers\, \nLe Trois-Mâts \nMaison de quartier des Justices \nPlace
  des justices \n49000 Angers
SUMMARY:8 heures pour la Palestine
URL:https://safe.angers.demosphere.eu/rv/382
END:VEVENT
END:VCALENDAR
