BEGIN:VCALENDAR
VERSION:2.0
PRODID:-//demosphere.net//NONSGML kigkonsult.se iCalcreator 2.22.1//
METHOD:REQUEST
X-WR-TIMEZONE:Europe/Paris
BEGIN:VEVENT
UID:https://safe.angers.demosphere.eu/rv/380
DTSTAMP:20110303T193000Z
DESCRIPTION:plus d'infos sur : https://safe.angers.demosphere.eu/rv/380
DTSTART:20110303T193000Z
DTEND:20110303T203000Z
GEO:+47.453104;-0.52589
LOCATION:Angers\, \nLe Trois-Mâts \nMaison de quartier des Justices \nPlace
  des justices \n49000 Angers
SUMMARY:Projection Vivre en ce jardin
URL:https://safe.angers.demosphere.eu/rv/380
END:VEVENT
END:VCALENDAR
