BEGIN:VCALENDAR
VERSION:2.0
PRODID:-//demosphere.net//NONSGML kigkonsult.se iCalcreator 2.22.1//
METHOD:REQUEST
X-WR-TIMEZONE:Europe/Paris
BEGIN:VEVENT
UID:https://safe.angers.demosphere.eu/rv/3793
DTSTAMP:20160318T193000Z
DESCRIPTION:plus d'infos sur : https://safe.angers.demosphere.eu/rv/3793
DTSTART:20160318T193000Z
DTEND:20160318T203000Z
GEO:+47.487328;-0.524227
LOCATION:Angers\, \nMaison pour tous - MPT Monplaisir \n3 rue de l'Ecriture
  \n49100 Angers
SUMMARY:Monplaisir\, mon cul ! Ou comment la Politique de la Ville m’a...
URL:https://safe.angers.demosphere.eu/rv/3793
END:VEVENT
END:VCALENDAR
