BEGIN:VCALENDAR
VERSION:2.0
PRODID:-//demosphere.net//NONSGML kigkonsult.se iCalcreator 2.22.1//
METHOD:REQUEST
X-WR-TIMEZONE:Europe/Paris
BEGIN:VEVENT
UID:https://safe.angers.demosphere.eu/rv/3431
DTSTAMP:20151015T183000Z
DESCRIPTION:plus d'infos sur : https://safe.angers.demosphere.eu/rv/3431
DTSTART:20151015T183000Z
DTEND:20151015T193000Z
GEO:+47.453104;-0.52589
LOCATION:Angers\, \nLe Trois-Mâts \nMaison de quartier des Justices \nPlace
  des justices \n49000 Angers
SUMMARY:Projection-rencontre Les Liberterres
URL:https://safe.angers.demosphere.eu/rv/3431
END:VEVENT
END:VCALENDAR
