BEGIN:VCALENDAR
VERSION:2.0
PRODID:-//demosphere.net//NONSGML kigkonsult.se iCalcreator 2.22.1//
METHOD:REQUEST
X-WR-TIMEZONE:Europe/Paris
BEGIN:VEVENT
UID:https://safe.angers.demosphere.eu/rv/3215
DTSTAMP:20150610T173000Z
DESCRIPTION:plus d'infos sur : https://safe.angers.demosphere.eu/rv/3215
DTSTART:20150610T173000Z
DTEND:20150610T183000Z
GEO:+47.487328;-0.524227
LOCATION:Angers\, \nMaison pour tous - MPT Monplaisir \n3 rue de l'Ecriture
  \n49100 Angers
SUMMARY:Film-discussion Pièces d'Identité
URL:https://safe.angers.demosphere.eu/rv/3215
END:VEVENT
END:VCALENDAR
