BEGIN:VCALENDAR
VERSION:2.0
PRODID:-//demosphere.net//NONSGML kigkonsult.se iCalcreator 2.22.1//
METHOD:REQUEST
X-WR-TIMEZONE:Europe/Paris
BEGIN:VEVENT
UID:https://safe.angers.demosphere.eu/rv/3192
DTSTAMP:20150502T013300Z
DESCRIPTION:plus d'infos sur : https://safe.angers.demosphere.eu/rv/3192
DTSTART;VALUE=DATE:20150502
GEO:+47.453104;-0.52589
LOCATION:Angers\, \nLe Trois-Mâts \nMaison de quartier des Justices \nPlace
  des justices \n49000 Angers
SUMMARY:Journée Nationale des mémoires de la traite\, de l'esclavage et leu
 r abolition
URL:https://safe.angers.demosphere.eu/rv/3192
END:VEVENT
END:VCALENDAR
