BEGIN:VCALENDAR
VERSION:2.0
PRODID:-//demosphere.net//NONSGML kigkonsult.se iCalcreator 2.22.1//
METHOD:REQUEST
X-WR-TIMEZONE:Europe/Paris
BEGIN:VEVENT
UID:https://safe.angers.demosphere.eu/rv/2993
DTSTAMP:20150203T173000Z
DESCRIPTION:plus d'infos sur : https://safe.angers.demosphere.eu/rv/2993
DTSTART:20150203T173000Z
DTEND:20150203T183000Z
GEO:+47.453104;-0.52589
LOCATION:Angers\, \nLe Trois-Mâts \nMaison de quartier des Justices \nPlace
  des justices \n49000 Angers
SUMMARY:« 42 Minutes place des Justices » : parents d'ailleurs
URL:https://safe.angers.demosphere.eu/rv/2993
END:VEVENT
END:VCALENDAR
