BEGIN:VCALENDAR
VERSION:2.0
PRODID:-//demosphere.net//NONSGML kigkonsult.se iCalcreator 2.22.1//
METHOD:REQUEST
X-WR-TIMEZONE:Europe/Paris
BEGIN:VEVENT
UID:https://safe.angers.demosphere.eu/rv/2909
DTSTAMP:20141213T170000Z
DESCRIPTION:plus d'infos sur : https://safe.angers.demosphere.eu/rv/2909
DTSTART:20141213T170000Z
DTEND:20141213T180000Z
GEO:+47.453104;-0.52589
LOCATION:Angers\, \nLe Trois-Mâts \nMaison de quartier des Justices \nPlace
  des justices \n49000 Angers
SUMMARY:Violences faites aux femmes au Soudan
URL:https://safe.angers.demosphere.eu/rv/2909
END:VEVENT
END:VCALENDAR
