BEGIN:VCALENDAR
VERSION:2.0
PRODID:-//demosphere.net//NONSGML kigkonsult.se iCalcreator 2.22.1//
METHOD:REQUEST
X-WR-TIMEZONE:Europe/Paris
BEGIN:VEVENT
UID:https://safe.angers.demosphere.eu/rv/2271
DTSTAMP:20131209T170000Z
DESCRIPTION:plus d'infos sur : https://safe.angers.demosphere.eu/rv/2271
DTSTART:20131209T170000Z
DTEND:20131209T180000Z
GEO:+47.487328;-0.524227
LOCATION:Angers\, \nMaison pour tous - MPT Monplaisir \n3 rue de l'Ecriture
  \n49100 Angers
SUMMARY:Conférence Paix et Inter-religion au Liban
URL:https://safe.angers.demosphere.eu/rv/2271
END:VEVENT
END:VCALENDAR
