BEGIN:VCALENDAR
VERSION:2.0
PRODID:-//demosphere.net//NONSGML kigkonsult.se iCalcreator 2.22.1//
METHOD:REQUEST
X-WR-TIMEZONE:Europe/Paris
BEGIN:VEVENT
UID:https://safe.angers.demosphere.eu/rv/184
DTSTAMP:20100427T180000Z
DESCRIPTION:plus d'infos sur : https://safe.angers.demosphere.eu/rv/184
DTSTART:20100427T180000Z
DTEND:20100427T190000Z
GEO:+47.453104;-0.52589
LOCATION:Angers\, \nLe Trois-Mâts \nMaison de quartier des Justices \nPlace
  des justices \n49000 Angers
SUMMARY:Travail associatif : comment pérenniser les emplois ?
URL:https://safe.angers.demosphere.eu/rv/184
END:VEVENT
END:VCALENDAR
