BEGIN:VCALENDAR
VERSION:2.0
PRODID:-//demosphere.net//NONSGML kigkonsult.se iCalcreator 2.22.1//
METHOD:REQUEST
X-WR-TIMEZONE:Europe/Paris
BEGIN:VEVENT
UID:https://safe.angers.demosphere.eu/rv/1742
DTSTAMP:20130207T193000Z
DESCRIPTION:plus d'infos sur : https://safe.angers.demosphere.eu/rv/1742
DTSTART:20130207T193000Z
DTEND:20130207T203000Z
GEO:+47.453104;-0.52589
LOCATION:Angers\, \nLe Trois-Mâts \nMaison de quartier des Justices \nPlace
  des justices \n49000 Angers
SUMMARY:Projection-débat The End Of The Line
URL:https://safe.angers.demosphere.eu/rv/1742
END:VEVENT
END:VCALENDAR
