BEGIN:VCALENDAR
VERSION:2.0
PRODID:-//demosphere.net//NONSGML kigkonsult.se iCalcreator 2.22.1//
METHOD:REQUEST
X-WR-TIMEZONE:Europe/Paris
BEGIN:VEVENT
UID:https://safe.angers.demosphere.eu/rv/1642
DTSTAMP:20121110T083000Z
DESCRIPTION:plus d'infos sur : https://safe.angers.demosphere.eu/rv/1642
DTSTART:20121110T083000Z
DTEND:20121110T093000Z
GEO:+47.487328;-0.524227
LOCATION:Angers\, \nMaison pour tous - MPT Monplaisir \n3 rue de l'Ecriture
  \n49100 Angers
SUMMARY:MIGRATIONS : QUELLES POLITIQUES D'ACTION AUJOURD'HUI ?
URL:https://safe.angers.demosphere.eu/rv/1642
END:VEVENT
END:VCALENDAR
