BEGIN:VCALENDAR
VERSION:2.0
PRODID:-//demosphere.net//NONSGML kigkonsult.se iCalcreator 2.22.1//
METHOD:REQUEST
X-WR-TIMEZONE:Europe/Paris
BEGIN:VEVENT
UID:https://safe.angers.demosphere.eu/rv/1437
DTSTAMP:20120627T133000Z
DESCRIPTION:plus d'infos sur : https://safe.angers.demosphere.eu/rv/1437
DTSTART:20120627T133000Z
DTEND:20120627T143000Z
GEO:+47.453104;-0.52589
LOCATION:Angers\, \nLe Trois-Mâts \nMaison de quartier des Justices \nPlace
  des justices \n49000 Angers
SUMMARY:L'habitat partagé intergénérationnel et solidaire
URL:https://safe.angers.demosphere.eu/rv/1437
END:VEVENT
END:VCALENDAR
