BEGIN:VCALENDAR
VERSION:2.0
PRODID:-//demosphere.net//NONSGML kigkonsult.se iCalcreator 2.22.1//
METHOD:REQUEST
X-WR-TIMEZONE:Europe/Paris
BEGIN:VEVENT
UID:https://safe.angers.demosphere.eu/rv/1352
DTSTAMP:20120414T120000Z
DESCRIPTION:plus d'infos sur : https://safe.angers.demosphere.eu/rv/1352
DTSTART:20120414T120000Z
DTEND:20120414T130000Z
GEO:+47.453104;-0.52589
LOCATION:Angers\, \nLe Trois-Mâts \nMaison de quartier des Justices \nPlace
  des justices \n49000 Angers
SUMMARY:2ème édition du Guide des alternatives d'Angers et ses environs
URL:https://safe.angers.demosphere.eu/rv/1352
END:VEVENT
END:VCALENDAR
