BEGIN:VCALENDAR
VERSION:2.0
PRODID:-//demosphere.net//NONSGML kigkonsult.se iCalcreator 2.22.1//
METHOD:REQUEST
X-WR-TIMEZONE:Europe/Paris
BEGIN:VEVENT
UID:https://safe.angers.demosphere.eu/rv/124
DTSTAMP:20100401T183000Z
DESCRIPTION:plus d'infos sur : https://safe.angers.demosphere.eu/rv/124
DTSTART:20100401T183000Z
DTEND:20100401T193000Z
GEO:+47.487328;-0.524227
LOCATION:Angers\, \nMaison pour tous - MPT Monplaisir \n3 rue de l'Ecriture
  \n49100 Angers
SUMMARY:Conquête de l’Algérie et construction de l’Empire colonial français
URL:https://safe.angers.demosphere.eu/rv/124
END:VEVENT
END:VCALENDAR
