BEGIN:VCALENDAR
VERSION:2.0
PRODID:-//demosphere.net//NONSGML kigkonsult.se iCalcreator 2.22.1//
METHOD:REQUEST
X-WR-TIMEZONE:Europe/Paris
BEGIN:VEVENT
UID:https://safe.angers.demosphere.eu/rv/1162
DTSTAMP:20120120T193000Z
DESCRIPTION:plus d'infos sur : https://safe.angers.demosphere.eu/rv/1162
DTSTART:20120120T193000Z
DTEND:20120120T203000Z
GEO:+47.453104;-0.52589
LOCATION:Angers\, \nLe Trois-Mâts \nMaison de quartier des Justices \nPlace
  des justices \n49000 Angers
SUMMARY:INCULTURE (S) 2 : L'école (Franck Lepage)
URL:https://safe.angers.demosphere.eu/rv/1162
END:VEVENT
END:VCALENDAR
